BEGIN:VCALENDAR
VERSION:2.0
PRODID:-//Lucia Alonso Pardo - ECPv6.15.20//NONSGML v1.0//EN
CALSCALE:GREGORIAN
METHOD:PUBLISH
X-WR-CALNAME:Lucia Alonso Pardo
X-ORIGINAL-URL:https://luciaalonsopardo.com
X-WR-CALDESC:Eventos para Lucia Alonso Pardo
REFRESH-INTERVAL;VALUE=DURATION:PT1H
X-Robots-Tag:noindex
X-PUBLISHED-TTL:PT1H
BEGIN:VTIMEZONE
TZID:Europe/Madrid
BEGIN:DAYLIGHT
TZOFFSETFROM:+0100
TZOFFSETTO:+0200
TZNAME:CEST
DTSTART:20250330T010000
END:DAYLIGHT
BEGIN:STANDARD
TZOFFSETFROM:+0200
TZOFFSETTO:+0100
TZNAME:CET
DTSTART:20251026T010000
END:STANDARD
BEGIN:DAYLIGHT
TZOFFSETFROM:+0100
TZOFFSETTO:+0200
TZNAME:CEST
DTSTART:20260329T010000
END:DAYLIGHT
BEGIN:STANDARD
TZOFFSETFROM:+0200
TZOFFSETTO:+0100
TZNAME:CET
DTSTART:20261025T010000
END:STANDARD
BEGIN:DAYLIGHT
TZOFFSETFROM:+0100
TZOFFSETTO:+0200
TZNAME:CEST
DTSTART:20270328T010000
END:DAYLIGHT
BEGIN:STANDARD
TZOFFSETFROM:+0200
TZOFFSETTO:+0100
TZNAME:CET
DTSTART:20271031T010000
END:STANDARD
END:VTIMEZONE
BEGIN:VEVENT
DTSTART;VALUE=DATE:20260516
DTEND;VALUE=DATE:20260517
DTSTAMP:20260419T204422
CREATED:20260218T170620Z
LAST-MODIFIED:20260407T064326Z
UID:6973-1778889600-1778975999@luciaalonsopardo.com
SUMMARY:Donna y las Dinamos en Mieres
DESCRIPTION:Casa de cultura Teodoro Cuesta. \nHora por concretar.
URL:https://luciaalonsopardo.com/event/donna-y-las-dinamos-en-mieres/
CATEGORIES:Donna y las Dinamos
ATTACH;FMTTYPE=image/jpeg:https://luciaalonsopardo.com/wp-content/uploads/2024/07/donnas01.jpg
END:VEVENT
END:VCALENDAR