BEGIN:VCALENDAR
VERSION:2.0
PRODID:-//Lucia Alonso Pardo - ECPv6.15.20//NONSGML v1.0//EN
CALSCALE:GREGORIAN
METHOD:PUBLISH
X-WR-CALNAME:Lucia Alonso Pardo
X-ORIGINAL-URL:https://luciaalonsopardo.com
X-WR-CALDESC:Eventos para Lucia Alonso Pardo
REFRESH-INTERVAL;VALUE=DURATION:PT1H
X-Robots-Tag:noindex
X-PUBLISHED-TTL:PT1H
BEGIN:VTIMEZONE
TZID:Europe/Madrid
BEGIN:DAYLIGHT
TZOFFSETFROM:+0100
TZOFFSETTO:+0200
TZNAME:CEST
DTSTART:20250330T010000
END:DAYLIGHT
BEGIN:STANDARD
TZOFFSETFROM:+0200
TZOFFSETTO:+0100
TZNAME:CET
DTSTART:20251026T010000
END:STANDARD
BEGIN:DAYLIGHT
TZOFFSETFROM:+0100
TZOFFSETTO:+0200
TZNAME:CEST
DTSTART:20260329T010000
END:DAYLIGHT
BEGIN:STANDARD
TZOFFSETFROM:+0200
TZOFFSETTO:+0100
TZNAME:CET
DTSTART:20261025T010000
END:STANDARD
BEGIN:DAYLIGHT
TZOFFSETFROM:+0100
TZOFFSETTO:+0200
TZNAME:CEST
DTSTART:20270328T010000
END:DAYLIGHT
BEGIN:STANDARD
TZOFFSETFROM:+0200
TZOFFSETTO:+0100
TZNAME:CET
DTSTART:20271031T010000
END:STANDARD
END:VTIMEZONE
BEGIN:VEVENT
DTSTART;TZID=Europe/Madrid:20260502T223000
DTEND;TZID=Europe/Madrid:20260502T235500
DTSTAMP:20260420T105400
CREATED:20260416T122242Z
LAST-MODIFIED:20260416T122242Z
UID:7016-1777761000-1777766100@luciaalonsopardo.com
SUMMARY:Música de Sofá en Camping Reino de León
DESCRIPTION:
URL:https://luciaalonsopardo.com/event/musica-de-sofa-en-camping-reino-de-leon/
CATEGORIES:Música de Sofá
END:VEVENT
END:VCALENDAR